BEGIN:VCALENDAR
VERSION:2.0
PRODID:-//Wellness Energetics - ECPv4.9.7//NONSGML v1.0//EN
CALSCALE:GREGORIAN
METHOD:PUBLISH
X-WR-CALNAME:Wellness Energetics
X-ORIGINAL-URL:https://wellness-energetics.com
X-WR-CALDESC:Events for Wellness Energetics
BEGIN:VTIMEZONE
TZID:"UTC"
BEGIN:STANDARD
TZOFFSETFROM:+0000
TZOFFSETTO:+0000
TZNAME:UTC
DTSTART:20240101T000000
END:STANDARD
END:VTIMEZONE
BEGIN:VEVENT
DTSTART;TZID="UTC":20241121T150000
DTEND;TZID="UTC":20241121T163000
DTSTAMP:20260418T091337
CREATED:20230707T155522Z
LAST-MODIFIED:20241121T175902Z
UID:19187-1732201200-1732206600@wellness-energetics.com
SUMMARY:GVR Metaphysical Group - 'Ancient Ohio Mound Builder Sacred Sites Adventure'
DESCRIPTION: Nearly 2000 years ago\, American Indian ancestors built monumental geometric mounds and earthwork complexes\, which are some of the largest and most intricate in the world. A famous example is Serpent Mound\, the world’s largest surviving effigy mound\, in the shape of a serpent. \nLearn about the spiritual lightwork adventure Deb and Pat took this September to the mounds. We will talk about the energetic interactions we had with the ancient and present-day spiritual priests and galactic beings\, and what they shared with us. We helped clear and re-energize sacred site energies and open new earth and galactic portals at some sites. Hear how galactics (ETs) are working inter-dimensionally to assist earth and humanity in raising the vibrations into higher consciousness. \nLearn suggestions and techniques on how to honor and connect with sacred sites and nature spirit energies. \nMonthly every 3rd Thursday\, 3 – 4:40 pm  \nLas Campanas (565 W Belltower Dr.)\, Cottonwood Room \nThe GVR Metaphysical Group (a subgroup of the GVR Meditation Club) offers metaphysical topics\, speakers\, presentations\, and fun energy exercises. \nFree to all GVR members with a membership card – bring your card number to the group event. \n  \n  \n
URL:https://wellness-energetics.com/event/gvr-metaphysical-group-spiritual-journey-to-nature/
LOCATION:GVR Las Campanas center\, Cottonwood road\, 565 W Belltower Dr\, GREEN VALLEY\, AZ\, 85614-2827\, United States
CATEGORIES:2024 GVR Meta Group
ATTACH;FMTTYPE=image/jpeg:https://wellness-energetics.com/wp-content/uploads/2022/01/Mother-earth-in-hands-Notpixabay.jpg
END:VEVENT
END:VCALENDAR