BEGIN:VCALENDAR
VERSION:2.0
PRODID:-//Wellness Energetics - ECPv4.9.7//NONSGML v1.0//EN
CALSCALE:GREGORIAN
METHOD:PUBLISH
X-WR-CALNAME:Wellness Energetics
X-ORIGINAL-URL:https://wellness-energetics.com
X-WR-CALDESC:Events for Wellness Energetics
BEGIN:VTIMEZONE
TZID:"UTC"
BEGIN:STANDARD
TZOFFSETFROM:+0000
TZOFFSETTO:+0000
TZNAME:UTC
DTSTART:20210101T000000
END:STANDARD
END:VTIMEZONE
BEGIN:VEVENT
DTSTART;TZID="UTC":20210219T080000
DTEND;TZID="UTC":20210219T170000
DTSTAMP:20260418T043600
CREATED:20210219T021351Z
LAST-MODIFIED:20210619T211254Z
UID:18336-1613721600-1613754000@wellness-energetics.com
SUMMARY:Metaphysical Zoom Feb 22 - Connecting with Guides and Galactics
DESCRIPTION:Metaphysical Zoom Group Call Feb 22\, 2021 at 11am-noon MST (AZ). \nFree. Open to all spiritual/metaphysical like-minded people. We talk about various metaphysical topics regarding consciousness awakening techniques and understandings to assist you on your spiritual earth journey. Held twice a month. \nFeb 22nd Zoom Topics: \n\nMeditation to connect with a special spiritual and protective guide\nTalk on various types of Extraterrestrial Galactic beings\nWhat it is like communicating with benevolent Galactic beings\nMeditation to energetically connect with Galactic beings of light\n\n  \n\nIf you are already on the Metaphysical Zoom Email list\, you will be receive the zoom link in an email a week before each bi-monthly zoom classes.\nIf you wish to be put on this Metaphysical Group Zoom email list\,  fill out this website Contact Form.\n\nThe zoom calls will be available in a Youtube Video on Starwalker’s channel called ‘wellness-energetics’\, under the Playlist  ‘metaphysical Group Zooms’. \nhttps://www.youtube.com/channel/UCVnSCB05nZivxS8Nv_7E97g?view_as=subscriber \n
URL:https://wellness-energetics.com/event/metaphysical-zoom-feb-22-connecting-with-guides-and-galactics/
CATEGORIES:2021 Events
ATTACH;FMTTYPE=image/jpeg:https://wellness-energetics.com/wp-content/uploads/2020/05/bluedovepic.jpg
ORGANIZER;CN="Deb%20Starwalker":MAILTO:wellnessenergetics@gmail.com
END:VEVENT
END:VCALENDAR